BEGIN:VCALENDAR
VERSION:2.0
PRODID:-//STEAMwhiz - The STEM Learning Lab - ECPv6.13.1//NONSGML v1.0//EN
CALSCALE:GREGORIAN
METHOD:PUBLISH
X-WR-CALNAME:STEAMwhiz - The STEM Learning Lab
X-ORIGINAL-URL:https://steamwhiz.com
X-WR-CALDESC:Events for STEAMwhiz - The STEM Learning Lab
REFRESH-INTERVAL;VALUE=DURATION:PT1H
X-Robots-Tag:noindex
X-PUBLISHED-TTL:PT1H
BEGIN:VTIMEZONE
TZID:America/New_York
BEGIN:DAYLIGHT
TZOFFSETFROM:-0500
TZOFFSETTO:-0400
TZNAME:EDT
DTSTART:20230312T070000
END:DAYLIGHT
BEGIN:STANDARD
TZOFFSETFROM:-0400
TZOFFSETTO:-0500
TZNAME:EST
DTSTART:20231105T060000
END:STANDARD
END:VTIMEZONE
BEGIN:VEVENT
DTSTART;TZID=America/New_York:20230220T090000
DTEND;TZID=America/New_York:20230220T120000
DTSTAMP:20260424T003142
CREATED:20221129T175236Z
LAST-MODIFIED:20221129T175236Z
UID:16460-1676883600-1676894400@steamwhiz.com
SUMMARY:February Break Sci-Tech Camp 2023: Robo Tech
DESCRIPTION:Coding + Robotics + Legos\nFebruary 20th – 24th | Mon. – Fri. | 9:00 AM – 12:00 PM\nAges* 7-13 yrs old • Limited Space • 6:1 Student-Teacher Ratio • Intense Learning • Expert Instructors\nCode\, Invent\, and Create!\nJoin the STEAM-Team in this week-long (Mon-Fri) Sci-Tech February Boot Camp\, as we build solid foundations in programming and robotics. Program your invention to perform specific tasks\, avoid obstacles\, follow lines\, respond to sounds\, make sounds\, and more! Unlock the robotic capabilities of this Lego-compatible robot as you explore programming\, STEM\,  and critical thinking. \n*Basic reading and keyboard/mouse skills needed. Contact us for individual recommendations.\n \n\n\n\nRegistration Open
URL:https://steamwhiz.com/event/february-break-sci-tech-camp-2023-robo-tech/2023-02-20/
LOCATION:STEAMwhiz HQ\, 1 Charles Blvd\, Guilderland\, NY\, 12084\, United States
ATTACH;FMTTYPE=image/png:https://steamwhiz.com/wp-content/uploads/2022/11/Robo-Tech-Feb-Camp-1.png
ORGANIZER;CN="STEAMwhiz":MAILTO:steamteam@steamwhiz.com
END:VEVENT
END:VCALENDAR