BEGIN:VCALENDAR
VERSION:2.0
PRODID:-//STEAMwhiz - The STEM Learning Lab - ECPv6.13.1//NONSGML v1.0//EN
CALSCALE:GREGORIAN
METHOD:PUBLISH
X-WR-CALNAME:STEAMwhiz - The STEM Learning Lab
X-ORIGINAL-URL:https://steamwhiz.com
X-WR-CALDESC:Events for STEAMwhiz - The STEM Learning Lab
REFRESH-INTERVAL;VALUE=DURATION:PT1H
X-Robots-Tag:noindex
X-PUBLISHED-TTL:PT1H
BEGIN:VTIMEZONE
TZID:America/New_York
BEGIN:DAYLIGHT
TZOFFSETFROM:-0500
TZOFFSETTO:-0400
TZNAME:EDT
DTSTART:20220313T070000
END:DAYLIGHT
BEGIN:STANDARD
TZOFFSETFROM:-0400
TZOFFSETTO:-0500
TZNAME:EST
DTSTART:20221106T060000
END:STANDARD
END:VTIMEZONE
BEGIN:VEVENT
DTSTART;TZID=America/New_York:20220924T130000
DTEND;TZID=America/New_York:20220924T143000
DTSTAMP:20260424T042139
CREATED:20220829T165028Z
LAST-MODIFIED:20220905T174734Z
UID:15878-1664024400-1664029800@steamwhiz.com
SUMMARY:Mini-MakerLab Course: Minecraft Prototyping Design
DESCRIPTION:STEAMwhiz students will Level Up their thinking & doing and build their skills in (S)cience (T)ech (E)ngineering (A)rt (M)ath. They will get hands-on with 3D printing\, computer-aided design\, the design process\, painting techniques\, stop-motion movie making\, Minecraft in-game challenges\, & more!  Jammed packed with creative problem-solving endeavors to support and develop your NextGen thinker & doer! \n \n\n\n\nRegistration Open
URL:https://steamwhiz.com/event/mini-makerlab-course-mc-prototype-design-2022-09-24/2022-09-24/
LOCATION:STEAMwhiz HQ\, 1 Charles Blvd\, Guilderland\, NY\, 12084\, United States
ATTACH;FMTTYPE=image/png:https://steamwhiz.com/wp-content/uploads/2022/08/Minecraft-3D_blue.png
ORGANIZER;CN="STEAMwhiz":MAILTO:steamteam@steamwhiz.com
END:VEVENT
END:VCALENDAR